BEGIN:VCALENDAR
PRODID:-//eluceo/ical//2.0/EN
VERSION:2.0
CALSCALE:GREGORIAN
BEGIN:VEVENT
UID:3dcde5cc-b534-4731-a157-0f072b8ef6dd
DTSTAMP:20260421T201151Z
SUMMARY:Taller "Las Métricas que de Verdad Importan" (Coworking EOI Madrid
 )
URL:https://www.eoi.es/es/eventos/85655/taller-las-metricas-que-de-verdad-i
 mportan-coworking-eoi-madrid
DTSTART:20170425T140000Z
DTEND:20170425T180000Z
LOCATION:Coworking EOI Madrid
END:VEVENT
END:VCALENDAR
