BEGIN:VCALENDAR
PRODID:-//eluceo/ical//2.0/EN
VERSION:2.0
CALSCALE:GREGORIAN
BEGIN:VEVENT
UID:ed81c247-d1eb-486e-94eb-da01db655f08
DTSTAMP:20260423T065800Z
SUMMARY:DemoDay (Coworking Rincón de la Victoria)
URL:https://www.eoi.es/es/eventos/85654/demoday-coworking-rincon-de-la-vict
 oria
DTSTART:20170427T080000Z
DTEND:20170427T133500Z
LOCATION:Casa de la Cultura de la Cala del Moral. Sala las Musas. Auditorio
 . Plaza Gloria Fuertes\, 9\, 29720 La Cala del Moral (Málaga)
END:VEVENT
END:VCALENDAR
