BEGIN:VCALENDAR
PRODID:-//eluceo/ical//2.0/EN
VERSION:2.0
CALSCALE:GREGORIAN
BEGIN:VEVENT
UID:b658a5b3-3f5a-4507-b6a6-899f1d691601
DTSTAMP:20260424T134112Z
SUMMARY:Demoday (Coworking Lucena)
URL:https://www.eoi.es/es/eventos/85642/demoday-coworking-lucena
DTSTART:20170420T150000Z
DTEND:20170420T210000Z
LOCATION:Casa de los Mora\,  Calle San Pedro\, 50\, 14900 Lucena
END:VEVENT
END:VCALENDAR
