BEGIN:VCALENDAR
PRODID:-//eluceo/ical//2.0/EN
VERSION:2.0
CALSCALE:GREGORIAN
BEGIN:VEVENT
UID:04a6f0fc-5c1c-487c-bf27-508c645f75b8
DTSTAMP:20260419T132140Z
SUMMARY:Afterwork "Bienvenida a la Primavera" (Coworking Orihuela)
URL:https://www.eoi.es/es/eventos/85616/afterwork-bienvenida-la-primavera-c
 oworking-orihuela
DTSTART:20170322T183000Z
DTEND:20170322T200000Z
LOCATION:Event Room. Calle Oriolanos Ausentes 9\, 03300 Orihuela.
END:VEVENT
END:VCALENDAR
