BEGIN:VCALENDAR
PRODID:-//eluceo/ical//2.0/EN
VERSION:2.0
CALSCALE:GREGORIAN
BEGIN:VEVENT
UID:3171499c-127e-49a9-a7f7-c79c6a68cfed
DTSTAMP:20260421T201151Z
SUMMARY:Taller "Fórmulas de Financiación para Startups: Las Ventajas del 
 Crowdfunding" (Coworking Madrid)
URL:https://www.eoi.es/es/eventos/85613/taller-formulas-de-financiacion-par
 a-startups-las-ventajas-del-crowdfunding-coworking-madrid
DTSTART:20170321T150000Z
DTEND:20170321T190000Z
LOCATION:Aula Taller\, Campus EOI Madrid. Avda. Gregorio del Amo\, 6. 28040
  Madrid
END:VEVENT
END:VCALENDAR
