BEGIN:VCALENDAR
PRODID:-//eluceo/ical//2.0/EN
VERSION:2.0
CALSCALE:GREGORIAN
BEGIN:VEVENT
UID:3dae69aa-12e7-444d-900d-33ca2d276842
DTSTAMP:20260424T134112Z
SUMMARY:Taller "Emprendedores: Propietarios de Nuestro Futuro" (Coworking L
 ucena)
URL:https://www.eoi.es/es/eventos/85597/taller-emprendedores-propietarios-d
 e-nuestro-futuro-coworking-lucena
DTSTART:20170309T190000Z
DTEND:20170309T203000Z
LOCATION:Casa Palacio de los Condes de Santa Ana. C/ San Pedro\, 42. 14900 
 Lucena (Córdoba)
END:VEVENT
END:VCALENDAR
