BEGIN:VCALENDAR
PRODID:-//eluceo/ical//2.0/EN
VERSION:2.0
CALSCALE:GREGORIAN
BEGIN:VEVENT
UID:ee5f99fb-4779-43d9-995f-e8b90bd486a6
DTSTAMP:20260421T214403Z
SUMMARY:Tercera Sesión del Observatorio "Europa\, ¿Avanza o Retrocede?"
URL:https://www.eoi.es/es/eventos/85576/tercera-sesion-del-observatorio-eur
 opa-avanza-o-retrocede
DTSTART:20170309T180000Z
DTEND:20170309T180000Z
LOCATION:Campus EOI Madrid. Avda. Gregorio del Amo\, 6. 28040 Madrid
END:VEVENT
END:VCALENDAR
