BEGIN:VCALENDAR
PRODID:-//eluceo/ical//2.0/EN
VERSION:2.0
CALSCALE:GREGORIAN
BEGIN:VEVENT
UID:a5f4cade-89a7-42bd-8add-fd6ac591c174
DTSTAMP:20260421T214440Z
SUMMARY:Taller "Cómo Captar a tus Primeros 10 Clientes. Taller de Venta pa
 ra Emprendedores" (Coworking Madrid)
URL:https://www.eoi.es/es/eventos/85557/taller-como-captar-tus-primeros-10-
 clientes-taller-de-venta-para-emprendedores-coworking-madrid
DTSTART:20170214T150000Z
DTEND:20170214T190000Z
LOCATION:Aula Taller - Campus EOI Madrid. Avda. Gregorio del Amo\, 6. 28040
  Madrid
END:VEVENT
END:VCALENDAR
