BEGIN:VCALENDAR
PRODID:-//eluceo/ical//2.0/EN
VERSION:2.0
CALSCALE:GREGORIAN
BEGIN:VEVENT
UID:211feb3a-3c62-4b5f-90a6-a3bdfc8232a9
DTSTAMP:20260421T232928Z
SUMMARY:Taller "Diseño de Equipos y Gestión de Talento" (Coworking Madrid
 )
URL:https://www.eoi.es/es/eventos/85522/taller-diseno-de-equipos-y-gestion-
 de-talento-coworking-madrid
DTSTART:20170207T150000Z
DTEND:20170207T190000Z
LOCATION:Aula Taller - Campus EOI Madrid. Avda. Gregorio del Amo\, 6. 28040
  Madrid
END:VEVENT
END:VCALENDAR
