BEGIN:VCALENDAR
PRODID:-//eluceo/ical//2.0/EN
VERSION:2.0
CALSCALE:GREGORIAN
BEGIN:VEVENT
UID:f7f37a7a-22c9-4f1a-a945-41aecfa9227b
DTSTAMP:20260421T214440Z
SUMMARY:Jornada "Empresas y Derechos Humanos: una Vinculación Necesaria"
URL:https://www.eoi.es/es/eventos/85512/jornada-empresas-y-derechos-humanos
 -una-vinculacion-necesaria
DTSTART:20170209T153000Z
DTEND:20170209T190000Z
LOCATION:Campus EOI Madrid. Avda. Gregorio del Amo\, 6. 28040 Madrid
END:VEVENT
END:VCALENDAR
