BEGIN:VCALENDAR
PRODID:-//eluceo/ical//2.0/EN
VERSION:2.0
CALSCALE:GREGORIAN
BEGIN:VEVENT
UID:b514bfda-e493-4144-b961-dfe236dfa0e6
DTSTAMP:20260421T231915Z
SUMMARY:Conferencia: Remuneración\, Tendencias Laborales y Perspectivas pa
 ra los Sectores de Ingeniería e IT
URL:https://www.eoi.es/es/eventos/85495/conferencia-remuneracion-tendencias
 -laborales-y-perspectivas-para-los-sectores-de-ingenieria-e-it
DTSTART:20170216T173000Z
DTEND:20170216T190000Z
LOCATION:Campus EOI Madrid. Avda. Gregorio del Amo\, 6. 28040 Madrid
END:VEVENT
END:VCALENDAR
