BEGIN:VCALENDAR
PRODID:-//eluceo/ical//2.0/EN
VERSION:2.0
CALSCALE:GREGORIAN
BEGIN:VEVENT
UID:ad7d1a45-5d0d-4530-b6a5-5e0a10dadbba
DTSTAMP:20260421T214517Z
SUMMARY:Presentación del Libro "La Empresa en España: Objetivo 2020"
URL:https://www.eoi.es/es/eventos/85494/presentacion-del-libro-la-empresa-e
 n-espana-objetivo-2020
DTSTART:20170202T180000Z
DTEND:20170202T190000Z
LOCATION:Campus EOI Madrid. Avda. Gregorio del Amo\, 6. 28040 Madrid
END:VEVENT
END:VCALENDAR
