BEGIN:VCALENDAR
PRODID:-//eluceo/ical//2.0/EN
VERSION:2.0
CALSCALE:GREGORIAN
BEGIN:VEVENT
UID:b7c5035b-0cfd-457d-a9c7-1c28590759d1
DTSTAMP:20260421T214506Z
SUMMARY:Blockchain: Ciberseguridad y el Futuro del Internet del Valor
URL:https://www.eoi.es/es/eventos/85481/blockchain-ciberseguridad-y-el-futu
 ro-del-internet-del-valor
DTSTART:20170207T180000Z
DTEND:20170207T190000Z
LOCATION:Campus EOI Madrid. Avda. Gregorio del Amo\, 6. 28040 Madrid
END:VEVENT
END:VCALENDAR
