BEGIN:VCALENDAR
PRODID:-//eluceo/ical//2.0/EN
VERSION:2.0
CALSCALE:GREGORIAN
BEGIN:VEVENT
UID:be6ba726-c609-4df7-b72b-76dc1c3f2505
DTSTAMP:20260424T134143Z
SUMMARY:Taller "Oportunidades de Innovación y Negocio Digital para No Tecn
 ólogos" (Coworking Lucena)
URL:https://www.eoi.es/es/eventos/85468/taller-oportunidades-de-innovacion-
 y-negocio-digital-para-no-tecnologos-coworking-lucena
DTSTART:20170119T150000Z
DTEND:20170119T190000Z
LOCATION:Casa de la Juventud. C/Paseo del Coso\, 9. 14900 Lucena
END:VEVENT
END:VCALENDAR
