BEGIN:VCALENDAR
PRODID:-//eluceo/ical//2.0/EN
VERSION:2.0
CALSCALE:GREGORIAN
BEGIN:VEVENT
UID:b569cac0-4ff9-4c7d-9ccb-3f2ac10aa613
DTSTAMP:20260421T220359Z
SUMMARY:Conferencia “La Era Trump. Política y Economía”
URL:https://www.eoi.es/es/eventos/85420/conferencia-la-era-trump-politica-y
 -economia
DTSTART:20170119T173000Z
DTEND:20170119T183000Z
LOCATION:Campus EOI Madrid. Avda. Gregorio del Amo\, 6. 28040 Madrid
END:VEVENT
END:VCALENDAR
