BEGIN:VCALENDAR
PRODID:-//eluceo/ical//2.0/EN
VERSION:2.0
CALSCALE:GREGORIAN
BEGIN:VEVENT
UID:623328ee-ff13-499c-88fb-cab05d352387
DTSTAMP:20260421T103706Z
SUMMARY:DemoDay EOI Ciudad Real - De Ciudad Real al Mundo (Coworking Ciudad
  Real) (Coworking Ciudad Real)
URL:https://www.eoi.es/es/eventos/85374/demoday-eoi-ciudad-real-de-ciudad-r
 eal-al-mundo-coworking-ciudad-real-coworking-ciudad-real
DTSTART:20161129T160000Z
DTEND:20161129T200000Z
LOCATION:Cámara Oficial de Comercio e Industria de Ciudad Real C/ Lanza\, 
 Nº  2 Ciudad Real
END:VEVENT
END:VCALENDAR
