BEGIN:VCALENDAR
PRODID:-//eluceo/ical//2.0/EN
VERSION:2.0
CALSCALE:GREGORIAN
BEGIN:VEVENT
UID:3d49eb31-6d10-4cfd-a8cf-0f74d82561dd
DTSTAMP:20260421T172406Z
SUMMARY:Conferencia “Los Grandes Desafíos de la Economía Española”
URL:https://www.eoi.es/es/eventos/85339/conferencia-los-grandes-desafios-de
 -la-economia-espanola
DTSTART:20161110T180000Z
DTEND:20161110T193000Z
LOCATION:Campus EOI Madrid 
END:VEVENT
END:VCALENDAR
