BEGIN:VCALENDAR
PRODID:-//eluceo/ical//2.0/EN
VERSION:2.0
CALSCALE:GREGORIAN
BEGIN:VEVENT
UID:60d334fc-0be1-47ef-b859-cfa9f13004d8
DTSTAMP:20260420T051452Z
SUMMARY:Taller: "Marketing Digital" (Coworking Talavera de la Reina)
URL:https://www.eoi.es/es/eventos/85263/taller-marketing-digital-coworking-
 talavera-de-la-reina
DTSTART:20160919T130000Z
DTEND:20160919T180000Z
LOCATION:Sala Coworking Vivero de Empresas de Talavera Plaza del Pan\, Nº 
 11 Talavera de la Reina
END:VEVENT
END:VCALENDAR
