BEGIN:VCALENDAR
PRODID:-//eluceo/ical//2.0/EN
VERSION:2.0
CALSCALE:GREGORIAN
BEGIN:VEVENT
UID:53797d61-9136-4174-86a8-b3e9e9cdef4b
DTSTAMP:20260424T125540Z
SUMMARY:Taller "Claves sobre la Felicidad: Liderazgo y Productividad Person
 al" (Coworking Cartagena)
URL:https://www.eoi.es/es/eventos/85208/taller-claves-sobre-la-felicidad-li
 derazgo-y-productividad-personal-coworking-cartagena
DTSTART:20160722T080000Z
DTEND:20160722T110000Z
LOCATION:Sala multiusos del Auditorio El Batel. Paseo Alfonso XII\, S/N\, 3
 0201 Cartagena\, Murcia
END:VEVENT
END:VCALENDAR
