BEGIN:VCALENDAR
PRODID:-//eluceo/ical//2.0/EN
VERSION:2.0
CALSCALE:GREGORIAN
BEGIN:VEVENT
UID:66c848e4-34ed-4a90-852d-e88b22210708
DTSTAMP:20260422T011418Z
SUMMARY:De Coworker a Coworker
URL:https://www.eoi.es/es/eventos/85203/de-coworker-coworker
DTSTART:20160719T160000Z
DTEND:20160719T180000Z
LOCATION:Campus EOI Madrid. Avda. Gregorio del Amo\, 6. 28040 Madrid
END:VEVENT
END:VCALENDAR
