BEGIN:VCALENDAR
PRODID:-//eluceo/ical//2.0/EN
VERSION:2.0
CALSCALE:GREGORIAN
BEGIN:VEVENT
UID:f07dc67a-b1e0-460e-bb34-d64e259d1ebb
DTSTAMP:20260422T003525Z
SUMMARY:Taller "Las Métricas que de Verdad Importan" (Coworking EOI Madrid
 )
URL:https://www.eoi.es/es/eventos/85110/taller-las-metricas-que-de-verdad-i
 mportan-coworking-eoi-madrid
DTSTART:20160602T140000Z
DTEND:20160602T180000Z
LOCATION:Espacio Coworking EOI Madrid. Avda. Gregorio del Amo\, 6. 28040 Ma
 drid
END:VEVENT
END:VCALENDAR
