BEGIN:VCALENDAR
PRODID:-//eluceo/ical//2.0/EN
VERSION:2.0
CALSCALE:GREGORIAN
BEGIN:VEVENT
UID:3e9343ec-af43-48eb-8274-925446c5a56e
DTSTAMP:20260423T001806Z
SUMMARY:Agenda ''Big Data: Conceptos y Aplicación Práctica''
URL:https://www.eoi.es/es/eventos/85081/agenda-big-data-conceptos-y-aplicac
 ion-practica
DTSTART:20160331T070000Z
DTEND:20160331T104500Z
LOCATION:Campus EOI Madrid. Avda. Gregorio del Amo\, 6. 28040 Madrid
END:VEVENT
END:VCALENDAR
