BEGIN:VCALENDAR
PRODID:-//eluceo/ical//2.0/EN
VERSION:2.0
CALSCALE:GREGORIAN
BEGIN:VEVENT
UID:505d7bc1-5d60-416f-9842-35ff2d6e11ab
DTSTAMP:20260422T021930Z
SUMMARY:Taller “Métricas y Simulación de Negocio”
URL:https://www.eoi.es/es/eventos/85042/taller-metricas-y-simulacion-de-neg
 ocio
DTSTART:20151119T160000Z
DTEND:20151119T190000Z
LOCATION:Campus EOI Madrid. Avda. Gregorio del Amo\, 6. 28040 Madrid
END:VEVENT
END:VCALENDAR
