BEGIN:VCALENDAR
PRODID:-//eluceo/ical//2.0/EN
VERSION:2.0
CALSCALE:GREGORIAN
BEGIN:VEVENT
UID:2247ce02-6e6f-4ba3-a9b5-d6627c589f69
DTSTAMP:20260422T021841Z
SUMMARY:Taller "Poniendo en marcha tu Lean Startup"
URL:https://www.eoi.es/es/eventos/85040/taller-poniendo-en-marcha-tu-lean-s
 tartup
DTSTART:20151112T160000Z
DTEND:20151112T190000Z
LOCATION:Campus EOI Madrid. Avda. Gregorio del Amo\, 6. 28040 Madrid
END:VEVENT
END:VCALENDAR
