BEGIN:VCALENDAR
PRODID:-//eluceo/ical//2.0/EN
VERSION:2.0
CALSCALE:GREGORIAN
BEGIN:VEVENT
UID:17363e2b-faf6-4a9c-9b0e-3da313a33191
DTSTAMP:20260422T021841Z
SUMMARY:Taller ''Modelos de negocio\, validación y monetización'' ( EOI M
 adrid)
URL:https://www.eoi.es/es/eventos/85014/taller-modelos-de-negocio-validacio
 n-y-monetizacion-eoi-madrid
DTSTART:20151013T150000Z
DTEND:20151013T180000Z
LOCATION:Campus EOI Madrid. Avda. Gregorio del Amo\, 6. 28040 Madrid
END:VEVENT
END:VCALENDAR
