BEGIN:VCALENDAR
PRODID:-//eluceo/ical//2.0/EN
VERSION:2.0
CALSCALE:GREGORIAN
BEGIN:VEVENT
UID:ebd0d7f7-75aa-4fb3-90e2-f3ef1b0e1706
DTSTAMP:20260420T011651Z
SUMMARY:Jornada técnica de promoción de las experiencias de Sevilla en el
  mundo digital. (Sede EOI Sevilla)
URL:https://www.eoi.es/es/eventos/84967/jornada-tecnica-de-promocion-de-las
 -experiencias-de-sevilla-en-el-mundo-digital-sede-eoi-sevilla
DTSTART:20150512T150000Z
DTEND:20150512T163000Z
LOCATION:Campus EOI Sevilla. C/ Leonardo da Vinci\, 12. Parque Científico 
 y Tecnológico Cartuja. Isla de la Cartuja. Sevilla
END:VEVENT
END:VCALENDAR
