BEGIN:VCALENDAR
PRODID:-//eluceo/ical//2.0/EN
VERSION:2.0
CALSCALE:GREGORIAN
BEGIN:VEVENT
UID:bf5b4150-bc7b-40c1-a702-bccdcfe9e0d1
DTSTAMP:20260422T033115Z
SUMMARY:Taller ''Crowdfunding''
URL:https://www.eoi.es/es/eventos/84964/taller-crowdfunding
DTSTART:20150507T140000Z
DTEND:20150507T163000Z
LOCATION:Campus EOI Madrid. Avda. Gregorio del Amo\, 6. 28040 Madrid
END:VEVENT
END:VCALENDAR
