BEGIN:VCALENDAR
PRODID:-//eluceo/ical//2.0/EN
VERSION:2.0
CALSCALE:GREGORIAN
BEGIN:VEVENT
UID:5aed8819-1ea1-413e-a061-0d29bf456493
DTSTAMP:20260421T165723Z
SUMMARY:X Torneo de Pádel Antiguos Alumnos-Club EOI (Majadahonda - Madrid\
 , Las Rejas Open Club)
URL:https://www.eoi.es/es/eventos/84902/x-torneo-de-padel-antiguos-alumnos-
 club-eoi-majadahonda-madrid-las-rejas-open-club
DTSTART:20150425T080000Z
DTEND:20150425T180000Z
LOCATION:Las Rejas Open Club de Majadahonda\, C/ Isaac Albéniz 18. 28220 M
 adrid
END:VEVENT
END:VCALENDAR
