BEGIN:VCALENDAR
PRODID:-//eluceo/ical//2.0/EN
VERSION:2.0
CALSCALE:GREGORIAN
BEGIN:VEVENT
UID:42101551-5a56-40f6-8c33-d5f1cdf04421
DTSTAMP:20260422T051125Z
SUMMARY:Taller ''Diseño de Equipos''
URL:https://www.eoi.es/es/eventos/84899/taller-diseno-de-equipos
DTSTART:20150325T170000Z
DTEND:20150325T193000Z
LOCATION:Campus EOI Madrid. Avda. Gregorio del Amo\, 6. 28040 Madrid
END:VEVENT
END:VCALENDAR
