BEGIN:VCALENDAR
PRODID:-//eluceo/ical//2.0/EN
VERSION:2.0
CALSCALE:GREGORIAN
BEGIN:VEVENT
UID:20112028-fe5e-4269-b79a-9bf70afa3f8e
DTSTAMP:20260422T161517Z
SUMMARY:Concurso Emprendedor Universitario. Entrega de Diplomas (Sede EOI M
 adrid)
URL:https://www.eoi.es/es/eventos/84765/concurso-emprendedor-universitario-
 entrega-de-diplomas-sede-eoi-madrid
DTSTART:20060703T103000Z
DTEND:20060703T123000Z
LOCATION:Salón de Actos EOI. Avda. Gregorio del Amo\, 6. Ciudad Universita
 ria. 28040 Madrid
END:VEVENT
END:VCALENDAR
