BEGIN:VCALENDAR
PRODID:-//eluceo/ical//2.0/EN
VERSION:2.0
CALSCALE:GREGORIAN
BEGIN:VEVENT
UID:6f4a8ee5-ee68-494b-8d25-d15d01919a15
DTSTAMP:20260422T161205Z
SUMMARY:Concurso Emprendedor Universitario. Entrega de Diplomas (Valencia\,
  Fundación Universidad Empresa)
URL:https://www.eoi.es/es/eventos/84763/concurso-emprendedor-universitario-
 entrega-de-diplomas-valencia-fundacion-universidad-empresa
DTSTART:20060704T101500Z
DTEND:20060704T121500Z
LOCATION:Fundación Universidad Empresa. Pza. Virgen de la Paz\, 3. 46001 V
 alencia
END:VEVENT
END:VCALENDAR
