BEGIN:VCALENDAR
PRODID:-//eluceo/ical//2.0/EN
VERSION:2.0
CALSCALE:GREGORIAN
BEGIN:VEVENT
UID:7addd937-4784-4615-bc84-7c833b756170
DTSTAMP:20260419T132812Z
SUMMARY:Presentación del Centro Virtual de Internacionalización (Sede EOI
  Madrid)
URL:https://www.eoi.es/es/eventos/84252/presentacion-del-centro-virtual-de-
 internacionalizacion-sede-eoi-madrid
DTSTART:20081110T170000Z
DTEND:20081110T190000Z
LOCATION:Salón de Actos EOI Madrid. Avda. Gregorio del Amo\, 6. Madrid
END:VEVENT
END:VCALENDAR
