BEGIN:VCALENDAR
PRODID:-//eluceo/ical//2.0/EN
VERSION:2.0
CALSCALE:GREGORIAN
BEGIN:VEVENT
UID:685df03f-35b0-4152-9216-e9aa5088b55b
DTSTAMP:20260420T011707Z
SUMMARY:EOI en el FIEP Sevilla 2009 (Sevilla\, Hotel NH Central Convencione
 s)
URL:https://www.eoi.es/es/eventos/84218/eoi-en-el-fiep-sevilla-2009-sevilla
 -hotel-nh-central-convenciones
DTSTART:20090309T150000Z
DTEND:20090309T170000Z
LOCATION:Hotel NH Central Convenciones. Avda. Diego Martínez Barrio\, 8. 4
 1013 Sevilla
END:VEVENT
END:VCALENDAR
