BEGIN:VCALENDAR
PRODID:-//eluceo/ical//2.0/EN
VERSION:2.0
CALSCALE:GREGORIAN
BEGIN:VEVENT
UID:f986eb7c-a4d5-4ba3-939d-63f4f80b3eb0
DTSTAMP:20260423T213210Z
SUMMARY:Conferencia 'El uso del blog en la empresa' (Sede EOI Madrid)
URL:https://www.eoi.es/es/eventos/84140/conferencia-el-uso-del-blog-en-la-e
 mpresa-sede-eoi-madrid
DTSTART:20090519T170000Z
DTEND:20090519T190000Z
LOCATION:Salón de Actos EOI. Avda. Gregorio del Amo\, 6. Madrid
END:VEVENT
END:VCALENDAR
