BEGIN:VCALENDAR
PRODID:-//eluceo/ical//2.0/EN
VERSION:2.0
CALSCALE:GREGORIAN
BEGIN:VEVENT
UID:858e742f-2b83-4b3c-a83f-c4877819589a
DTSTAMP:20260422T235723Z
SUMMARY:Jornada Fundación OPTI 'Preparando el futuro en tiempos de incerti
 dumbre' (Madrid\, Hotel Villamagna)
URL:https://www.eoi.es/es/eventos/84122/jornada-fundacion-opti-preparando-e
 l-futuro-en-tiempos-de-incertidumbre-madrid-hotel-villamagna
DTSTART:20090528T064500Z
DTEND:20090528T084500Z
LOCATION:Hotel Villamagna
END:VEVENT
END:VCALENDAR
