BEGIN:VCALENDAR
PRODID:-//eluceo/ical//2.0/EN
VERSION:2.0
CALSCALE:GREGORIAN
BEGIN:VEVENT
UID:d6754239-1b01-4fb7-9c2e-47a51fef436f
DTSTAMP:20260420T214344Z
SUMMARY:Inteligencia emocional y liderazgo en la empresa (Jornada de Actual
 ización Alumni)
URL:https://www.eoi.es/es/eventos/83965/inteligencia-emocional-y-liderazgo-
 en-la-empresa-jornada-de-actualizacion-alumni
DTSTART:20091023T123000Z
DTEND:20091023T143000Z
LOCATION:EOI Madrid. Av. Gregorio del Amo\, 6. Aula 2.1
END:VEVENT
END:VCALENDAR
