BEGIN:VCALENDAR
PRODID:-//eluceo/ical//2.0/EN
VERSION:2.0
CALSCALE:GREGORIAN
BEGIN:VEVENT
UID:843e55d2-2976-44f2-b23b-52dbb1d7e909
DTSTAMP:20260422T235811Z
SUMMARY:Jornada 'Fundaciones Públicas'
URL:https://www.eoi.es/es/eventos/83909/jornada-fundaciones-publicas
DTSTART:20091210T080000Z
DTEND:20091210T100000Z
LOCATION:Sede EOI Madrid. Avd. Gregorio del Amo\, 6. 28040 Madrid
END:VEVENT
END:VCALENDAR
