BEGIN:VCALENDAR
PRODID:-//eluceo/ical//2.0/EN
VERSION:2.0
CALSCALE:GREGORIAN
BEGIN:VEVENT
UID:853e9d88-9493-4c64-b41f-b5f11d1dd56c
DTSTAMP:20260420T213358Z
SUMMARY: Inteligencia Emocional y Liderazgo en la Empresa (Jornada de Forma
 ción Continua)
URL:https://www.eoi.es/es/eventos/83890/inteligencia-emocional-y-liderazgo-
 en-la-empresa-jornada-de-formacion-continua
DTSTART:20100129T150000Z
DTEND:20100129T170000Z
LOCATION:EOI Madrid. Av. Gregorio del Amo 6\, 28040.
END:VEVENT
END:VCALENDAR
