BEGIN:VCALENDAR
PRODID:-//eluceo/ical//2.0/EN
VERSION:2.0
CALSCALE:GREGORIAN
BEGIN:VEVENT
UID:a7e57766-c22b-497f-acc8-79bab27bad09
DTSTAMP:20260422T161503Z
SUMMARY:Premios del 8º concurso de Emprendedores Universitarios (Sede EOI 
 Andalucía)
URL:https://www.eoi.es/es/eventos/83808/premios-del-8o-concurso-de-emprende
 dores-universitarios-sede-eoi-andalucia
DTSTART:20100407T100000Z
DTEND:20100407T120000Z
LOCATION:EOI Sevilla. C/ Leonardo da Vinci\, 12. Isla de la Cartuja. Sevill
 a
END:VEVENT
END:VCALENDAR
