BEGIN:VCALENDAR
PRODID:-//eluceo/ical//2.0/EN
VERSION:2.0
CALSCALE:GREGORIAN
BEGIN:VEVENT
UID:f1954ba6-3488-40f3-ad34-30a2f807ae3d
DTSTAMP:20260424T205900Z
SUMMARY:Cómo Presentar y Cómo Presentarse [Día 1]
URL:https://www.eoi.es/es/eventos/83731/como-presentar-y-como-presentarse-d
 ia-1
DTSTART:20100604T140000Z
DTEND:20100604T160000Z
LOCATION:EOI Madrid. Avda. Gregorio del Amo\, 6. 28040 Madrid
END:VEVENT
END:VCALENDAR
