BEGIN:VCALENDAR
PRODID:-//eluceo/ical//2.0/EN
VERSION:2.0
CALSCALE:GREGORIAN
BEGIN:VEVENT
UID:6d0c88a2-f886-4225-993f-68c3c78e4636
DTSTAMP:20260424T205704Z
SUMMARY:Cómo Presentar y Cómo Presentarse [Día 2]
URL:https://www.eoi.es/es/eventos/83729/como-presentar-y-como-presentarse-d
 ia-2
DTSTART:20100605T070000Z
DTEND:20100605T090000Z
LOCATION:EOI Madrid. Avda. Gregorio del Amo\, 6. 28040 Madrid
END:VEVENT
END:VCALENDAR
