BEGIN:VCALENDAR
PRODID:-//eluceo/ical//2.0/EN
VERSION:2.0
CALSCALE:GREGORIAN
BEGIN:VEVENT
UID:100c47fa-7aeb-4334-8fc5-3cb2b0f9221f
DTSTAMP:20260423T001901Z
SUMMARY:Jornada de Puertas abiertas. Presentación programas Executive
URL:https://www.eoi.es/es/eventos/83699/jornada-de-puertas-abiertas-present
 acion-programas-executive
DTSTART:20100624T163000Z
DTEND:20100624T183000Z
LOCATION:EOI Madrid. Avda. Gregorio del Amo\, 6. 28040 Madrid
END:VEVENT
END:VCALENDAR
