BEGIN:VCALENDAR
PRODID:-//eluceo/ical//2.0/EN
VERSION:2.0
CALSCALE:GREGORIAN
BEGIN:VEVENT
UID:5d474669-0b77-4300-9942-37ecca4e7b10
DTSTAMP:20260423T001806Z
SUMMARY:Presentación de Programas Executive 2010-2011 (Campus Madrid)
URL:https://www.eoi.es/es/eventos/83646/presentacion-de-programas-executive
 -2010-2011-campus-madrid
DTSTART:20100922T170000Z
DTEND:20100922T190000Z
LOCATION:Campus EOI Madrid. Avda. Gregorio del Amo\, 6. 28040 Madrid
END:VEVENT
END:VCALENDAR
