BEGIN:VCALENDAR
PRODID:-//eluceo/ical//2.0/EN
VERSION:2.0
CALSCALE:GREGORIAN
BEGIN:VEVENT
UID:a9363a57-c799-47ea-a1a2-dc17e63ba35b
DTSTAMP:20260422T122849Z
SUMMARY:Acto de Clausura 2010 (Campus EOI Sevilla)
URL:https://www.eoi.es/es/eventos/83633/acto-de-clausura-2010-campus-eoi-se
 villa
DTSTART:20100930T163000Z
DTEND:20100930T183000Z
LOCATION:Campus EOI Sevilla. C/ Leonardo da Vinci\, 12. Isla de la Cartuja.
  Sevilla
END:VEVENT
END:VCALENDAR
