BEGIN:VCALENDAR
PRODID:-//eluceo/ical//2.0/EN
VERSION:2.0
CALSCALE:GREGORIAN
BEGIN:VEVENT
UID:5c3a97cd-ff6a-4a72-b567-8206d8911434
DTSTAMP:20260423T001909Z
SUMMARY:Torneo de Padel Club EOI Andalucía (Sevilla\, Gelves. Club Bernier
  Gelves)
URL:https://www.eoi.es/es/eventos/83562/torneo-de-padel-club-eoi-andalucia-
 sevilla-gelves-club-bernier-gelves
DTSTART:20101023T070000Z
DTEND:20101023T090000Z
LOCATION:Club Bernier Gelves. Gelves\, Sevilla
END:VEVENT
END:VCALENDAR
