BEGIN:VCALENDAR
PRODID:-//eluceo/ical//2.0/EN
VERSION:2.0
CALSCALE:GREGORIAN
BEGIN:VEVENT
UID:b3e3efa3-2b9f-462a-bb7b-2c39367fce40
DTSTAMP:20260420T011707Z
SUMMARY:Factoría de Innovación (Campus EOI Sevilla)
URL:https://www.eoi.es/es/eventos/83522/factoria-de-innovacion-campus-eoi-s
 evilla
DTSTART:20101123T153000Z
DTEND:20101123T173000Z
LOCATION:Campus EOI Sevilla. C/ Leonardo da Vinci\, 12. Isla de la Cartuja.
  Sevilla
END:VEVENT
END:VCALENDAR
