BEGIN:VCALENDAR
PRODID:-//eluceo/ical//2.0/EN
VERSION:2.0
CALSCALE:GREGORIAN
BEGIN:VEVENT
UID:46730902-3302-4fa4-9f83-faf6ff5c481b
DTSTAMP:20260423T020710Z
SUMMARY:Clausura del Programa de Internacionalizacion de la PYME (Campus EO
 I Sevilla)
URL:https://www.eoi.es/es/eventos/83510/clausura-del-programa-de-internacio
 nalizacion-de-la-pyme-campus-eoi-sevilla
DTSTART:20101201T120000Z
DTEND:20101201T140000Z
LOCATION:Campus EOI Sevilla. C/ Leonardo da Vinci\, 12. Isla de la Cartuja.
  Sevilla
END:VEVENT
END:VCALENDAR
