BEGIN:VCALENDAR
PRODID:-//eluceo/ical//2.0/EN
VERSION:2.0
CALSCALE:GREGORIAN
BEGIN:VEVENT
UID:29137f30-520a-44a0-ae0f-85ee528359f8
DTSTAMP:20260423T001903Z
SUMMARY:Jornada Puertas Abiertas - Programas Executive [Cancelado]
URL:https://www.eoi.es/es/eventos/83503/jornada-puertas-abiertas-programas-
 executive-cancelado
DTSTART:20101202T173000Z
DTEND:20101202T193000Z
LOCATION:Campus EOI Madrid. Avda. Gregorio del Amo\, 6. 28040 Madrid
END:VEVENT
END:VCALENDAR
