BEGIN:VCALENDAR
PRODID:-//eluceo/ical//2.0/EN
VERSION:2.0
CALSCALE:GREGORIAN
BEGIN:VEVENT
UID:b89c792d-55d3-4350-b269-391f6816bbf5
DTSTAMP:20260422T111010Z
SUMMARY:Escuchar lo libre – Primera convocatoria
URL:https://www.eoi.es/es/eventos/83501/escuchar-lo-libre-primera-convocato
 ria
DTSTART:20101206T080000Z
DTEND:20101206T100000Z
LOCATION:Campus EOI Madrid. Avda. Gregorio del Amo\, 6. 28040 Madrid
END:VEVENT
END:VCALENDAR
