BEGIN:VCALENDAR
PRODID:-//eluceo/ical//2.0/EN
VERSION:2.0
CALSCALE:GREGORIAN
BEGIN:VEVENT
UID:87714eeb-872c-4f34-bd35-acfd1c59b947
DTSTAMP:20260422T092245Z
SUMMARY:Una mirada diferente sobre el management público: presentación de
 l libro 'Reflexiones Zombies'
URL:https://www.eoi.es/es/eventos/83450/una-mirada-diferente-sobre-el-manag
 ement-publico-presentacion-del-libro-reflexiones-zombies
DTSTART:20110208T170000Z
DTEND:20110208T190000Z
LOCATION:Campus EOI Madrid. Avda. Gregorio del Amo\, 6. 28040 Madrid
END:VEVENT
END:VCALENDAR
